BEGIN:VCALENDAR
VERSION:2.0
PRODID:-// - ECPv6.15.20//NONSGML v1.0//EN
CALSCALE:GREGORIAN
METHOD:PUBLISH
X-ORIGINAL-URL:https://salierschule-speyer.de
X-WR-CALDESC:Veranstaltungen für 
REFRESH-INTERVAL;VALUE=DURATION:PT1H
X-Robots-Tag:noindex
X-PUBLISHED-TTL:PT1H
BEGIN:VTIMEZONE
TZID:Europe/Berlin
BEGIN:DAYLIGHT
TZOFFSETFROM:+0100
TZOFFSETTO:+0200
TZNAME:CEST
DTSTART:20190331T010000
END:DAYLIGHT
BEGIN:STANDARD
TZOFFSETFROM:+0200
TZOFFSETTO:+0100
TZNAME:CET
DTSTART:20191027T010000
END:STANDARD
BEGIN:DAYLIGHT
TZOFFSETFROM:+0100
TZOFFSETTO:+0200
TZNAME:CEST
DTSTART:20200329T010000
END:DAYLIGHT
BEGIN:STANDARD
TZOFFSETFROM:+0200
TZOFFSETTO:+0100
TZNAME:CET
DTSTART:20201025T010000
END:STANDARD
BEGIN:DAYLIGHT
TZOFFSETFROM:+0100
TZOFFSETTO:+0200
TZNAME:CEST
DTSTART:20210328T010000
END:DAYLIGHT
BEGIN:STANDARD
TZOFFSETFROM:+0200
TZOFFSETTO:+0100
TZNAME:CET
DTSTART:20211031T010000
END:STANDARD
END:VTIMEZONE
BEGIN:VEVENT
DTSTART;TZID=Europe/Berlin:20200812T083000
DTEND;TZID=Europe/Berlin:20200812T123000
DTSTAMP:20260422T183355
CREATED:20200805T103549Z
LAST-MODIFIED:20200805T103750Z
UID:400-1597221000-1597235400@salierschule-speyer.de
SUMMARY:Dienstbesprechung
DESCRIPTION:
URL:https://salierschule-speyer.de/event/dienstbesprechunh/
END:VEVENT
BEGIN:VEVENT
DTSTART;TZID=Europe/Berlin:20200812T123000
DTEND;TZID=Europe/Berlin:20200812T133000
DTSTAMP:20260422T183355
CREATED:20200805T103642Z
LAST-MODIFIED:20200805T103642Z
UID:402-1597235400-1597239000@salierschule-speyer.de
SUMMARY:Gesamtkonferenz
DESCRIPTION:
URL:https://salierschule-speyer.de/event/gesamtkonferenz/
END:VEVENT
BEGIN:VEVENT
DTSTART;TZID=Europe/Berlin:20200817T080000
DTEND;TZID=Europe/Berlin:20200817T160000
DTSTAMP:20260422T183355
CREATED:20200805T102741Z
LAST-MODIFIED:20201025T114656Z
UID:397-1597651200-1597680000@salierschule-speyer.de
SUMMARY:Erster Schultag
DESCRIPTION:
URL:https://salierschule-speyer.de/event/erster-schultag/
END:VEVENT
BEGIN:VEVENT
DTSTART;TZID=Europe/Berlin:20200817T190000
DTEND;TZID=Europe/Berlin:20200817T210000
DTSTAMP:20260422T183355
CREATED:20200807T152658Z
LAST-MODIFIED:20201025T114734Z
UID:466-1597690800-1597698000@salierschule-speyer.de
SUMMARY:Elternabend Stufe 1
DESCRIPTION:
URL:https://salierschule-speyer.de/event/elternabend-stufe-1/
END:VEVENT
BEGIN:VEVENT
DTSTART;TZID=Europe/Berlin:20200818T190000
DTEND;TZID=Europe/Berlin:20200818T210000
DTSTAMP:20260422T183355
CREATED:20200807T153922Z
LAST-MODIFIED:20201025T114856Z
UID:468-1597777200-1597784400@salierschule-speyer.de
SUMMARY:Elternabend Stufe 3
DESCRIPTION:
URL:https://salierschule-speyer.de/event/elternabend-stufe-3/
END:VEVENT
BEGIN:VEVENT
DTSTART;VALUE=DATE:20200824
DTEND;VALUE=DATE:20200825
DTSTAMP:20260422T183355
CREATED:20200806T220027Z
LAST-MODIFIED:20201025T121441Z
UID:472-1598227200-1598313599@salierschule-speyer.de
SUMMARY:Radfahrausbildung Stufe 4
DESCRIPTION:
URL:https://salierschule-speyer.de/event/radfahrausbildung-stufe-4/
END:VEVENT
BEGIN:VEVENT
DTSTART;VALUE=DATE:20200824
DTEND;VALUE=DATE:20200825
DTSTAMP:20260422T183355
CREATED:20200807T154020Z
LAST-MODIFIED:20201025T114944Z
UID:470-1598227200-1598313599@salierschule-speyer.de
SUMMARY:Elternabend HSU
DESCRIPTION:
URL:https://salierschule-speyer.de/event/elternabend-hsu/
END:VEVENT
BEGIN:VEVENT
DTSTART;VALUE=DATE:20200825
DTEND;VALUE=DATE:20200826
DTSTAMP:20260422T183355
CREATED:20201025T115435Z
LAST-MODIFIED:20201025T121810Z
UID:593-1598313600-1598399999@salierschule-speyer.de
SUMMARY:Aktion "Gib Acht! Schulanfänger"
DESCRIPTION:Stufe 1
URL:https://salierschule-speyer.de/event/aktion-gib-acht-schulanfaenger/
END:VEVENT
BEGIN:VEVENT
DTSTART;VALUE=DATE:20200826
DTEND;VALUE=DATE:20200827
DTSTAMP:20260422T183355
CREATED:20201025T115613Z
LAST-MODIFIED:20201025T121834Z
UID:595-1598400000-1598486399@salierschule-speyer.de
SUMMARY:Aktion "Gib Acht! Schulanfänger"
DESCRIPTION:
URL:https://salierschule-speyer.de/event/aktion-gib-acht-schulanfaenger-2/
END:VEVENT
BEGIN:VEVENT
DTSTART;VALUE=DATE:20200827
DTEND;VALUE=DATE:20200828
DTSTAMP:20260422T183355
CREATED:20201025T115953Z
LAST-MODIFIED:20201025T115953Z
UID:597-1598486400-1598572799@salierschule-speyer.de
SUMMARY:Elternabend Stufe 4
DESCRIPTION:
URL:https://salierschule-speyer.de/event/elternabend-stufe-4/
END:VEVENT
BEGIN:VEVENT
DTSTART;VALUE=DATE:20200831
DTEND;VALUE=DATE:20200901
DTSTAMP:20260422T183355
CREATED:20201025T122336Z
LAST-MODIFIED:20201025T122336Z
UID:625-1598832000-1598918399@salierschule-speyer.de
SUMMARY:Radfahrausbildung
DESCRIPTION:Für die 4. Klassen.
URL:https://salierschule-speyer.de/event/radfahrausbildung/
END:VEVENT
END:VCALENDAR